BEGIN:VCALENDAR
VERSION:2.0
PRODID:-//Runway for Recovery - ECPv6.15.16//NONSGML v1.0//EN
CALSCALE:GREGORIAN
METHOD:PUBLISH
X-ORIGINAL-URL:https://runwayforrecovery.org
X-WR-CALDESC:Events for Runway for Recovery
REFRESH-INTERVAL;VALUE=DURATION:PT1H
X-Robots-Tag:noindex
X-PUBLISHED-TTL:PT1H
BEGIN:VTIMEZONE
TZID:UTC
BEGIN:STANDARD
TZOFFSETFROM:+0000
TZOFFSETTO:+0000
TZNAME:UTC
DTSTART:20240101T000000
END:STANDARD
END:VTIMEZONE
BEGIN:VTIMEZONE
TZID:America/New_York
BEGIN:DAYLIGHT
TZOFFSETFROM:-0500
TZOFFSETTO:-0400
TZNAME:EDT
DTSTART:20240310T070000
END:DAYLIGHT
BEGIN:STANDARD
TZOFFSETFROM:-0400
TZOFFSETTO:-0500
TZNAME:EST
DTSTART:20241103T060000
END:STANDARD
BEGIN:DAYLIGHT
TZOFFSETFROM:-0500
TZOFFSETTO:-0400
TZNAME:EDT
DTSTART:20250309T070000
END:DAYLIGHT
BEGIN:STANDARD
TZOFFSETFROM:-0400
TZOFFSETTO:-0500
TZNAME:EST
DTSTART:20251102T060000
END:STANDARD
BEGIN:DAYLIGHT
TZOFFSETFROM:-0500
TZOFFSETTO:-0400
TZNAME:EDT
DTSTART:20260308T070000
END:DAYLIGHT
BEGIN:STANDARD
TZOFFSETFROM:-0400
TZOFFSETTO:-0500
TZNAME:EST
DTSTART:20261101T060000
END:STANDARD
END:VTIMEZONE
BEGIN:VEVENT
DTSTART;TZID=UTC:20250606T071500
DTEND;TZID=UTC:20250606T170000
DTSTAMP:20260423T164422
CREATED:20250312T174813Z
LAST-MODIFIED:20250312T174845Z
UID:10000144-1749194100-1749229200@runwayforrecovery.org
SUMMARY:GFC 2025 Golf Marathon
DESCRIPTION:Play Golf for Runway for Recovery on June 6\, 2025 at Juniper Hills. \nJoin the Runway Team co-captained by Holly Foster and Bill Achtmeyer for an unbelievable day of camaraderie where golfers of all skill levels are sponsored to play 100 holes in one day to positively impact the lives of cancer patients and their families. Launched in New England in 2005\, more than $4.25 Million has been raised through GFC’s Golf Marathon\, with $830\,000 raised in 2023 by golfers representing 14 nonprofits. \nRunway for Recovery receives 100% of the funds raised by their golfers. \nWhat is required to participate?  \n\n$4\,000 per individual golfer\n$2\,000 per junior golfer (25 years old & under)\n\nGolf Fights Cancer covers all expenses related to the event – including cost of golf\, donation transaction fees\, food & beverage\, registration gifts & prizes\nGolf Fights Cancer provides all golfers with a fundraising page and resources to support their crowdfunding efforts – including an event newsletter and individual coaching\n\n\n\nWho Plays?  \n\nGolfers of all skill levels – from those who play only a few times a season to scratch golfers\nGolfers of all ages – over the years participants have ranged from elementary school aged through retirees\nGolfers who have been impacted by cancer\, either personally or through a family member/friend\, and are\npassionate about making a difference\n\nHow can you play 100 holes in one day? \n\nThis is not a day to shoot a personal best\, in fact\, golfers will not be keeping score\nHoles aren’t necessarily played in sequence. Golfers are assigned a starting hole and can then scatter and play\nany hole as they wish (even repeating a circuit)\nParticipants have the option to play two golf balls per hole with preferred lies\, and count both towards their tally\nPutts ‘inside the leather’ are gimmies\nShotgun start at 7:15am\, group lunch from 11:30am – 12:30pm\, golf finished by 5pm\n\nRegister or Donate
URL:https://runwayforrecovery.org/event-calendar/gfc-2025-golf-marathon/
LOCATION:Juniper Hills Course\, 202 Brigham Street\, Northborough\, MA\, 01532\, United States
CATEGORIES:Fundraising
ATTACH;FMTTYPE=image/jpeg:https://runwayforrecovery.org/wp-content/uploads/2024/02/246196216_10159214935554029_8510448862394595174_n.jpg
GEO:42.3105703;-71.6283519
X-APPLE-STRUCTURED-LOCATION;VALUE=URI;X-ADDRESS=Juniper Hills Course 202 Brigham Street Northborough MA 01532 United States;X-APPLE-RADIUS=500;X-TITLE=202 Brigham Street:geo:-71.6283519,42.3105703
END:VEVENT
BEGIN:VEVENT
DTSTART;TZID=America/New_York:20250610T103000
DTEND;TZID=America/New_York:20250610T113000
DTSTAMP:20260423T164422
CREATED:20250516T212657Z
LAST-MODIFIED:20250519T181920Z
UID:10000159-1749551400-1749555000@runwayforrecovery.org
SUMMARY:Rally for Runway: Pure Barre Darien
DESCRIPTION:Join us on June 10th at 10:30 a.m. for the first Rally for Runway\, Pure Barre Darien event! This class will be a Strength + Power class\, and we so thrilled to be partnering with the Darien\, CT community to host this event.\n\nPure Barre Define fuses concepts from our classic barre technique with weight-based strength training to develop muscular strength and power. In 50 minutes\, you will experience the best of our Pure Barre technique fundamentals combined with additional dumbbell training in functional movements to enhance muscular definition and build confidence in your form.\n\nThis event is being held to honor the memory of Catena Altamura who passed away in July 2024 from metastatic breast cancer. Her cousin\, Megan Schinella will be hosting this event to honor the life that Catena lived and to ensure that families and kiddos are supported after these unimaginable losses. We hope to see you there.\n \n \nRegister or Donate
URL:https://runwayforrecovery.org/event-calendar/rally-for-runway-pure-barre-darien/
LOCATION:Pure Barre\, Darien\, 1958 Post Rd\, Darien\, CT\, 06820
CATEGORIES:Rally,Wellness Program
ATTACH;FMTTYPE=image/jpeg:https://runwayforrecovery.org/wp-content/uploads/2025/05/IMG_0132-copy.jpeg
GEO:41.0604551;-73.4863239
X-APPLE-STRUCTURED-LOCATION;VALUE=URI;X-ADDRESS=Pure Barre Darien 1958 Post Rd Darien CT 06820;X-APPLE-RADIUS=500;X-TITLE=1958 Post Rd:geo:-73.4863239,41.0604551
END:VEVENT
BEGIN:VEVENT
DTSTART;TZID=America/New_York:20250612T120000
DTEND;TZID=America/New_York:20250612T130000
DTSTAMP:20260423T164422
CREATED:20250211T165230Z
LAST-MODIFIED:20250313T212648Z
UID:10000139-1749729600-1749733200@runwayforrecovery.org
SUMMARY:Rally for Runway: Orangetheory Fitness
DESCRIPTION:Come to an Orange 60 class at Orangetheory Fitness in Concord\, MA. The OTF community will be coming together for the sixth year in a row to support Runway for Recovery. \nThis year before class\, we have the honor of hearing from a local Concord resident and Orangetheory member about how breast cancer has impacted her life. \nRegister or Donate
URL:https://runwayforrecovery.org/event-calendar/rally-for-runway-orangetheory-fitness/
LOCATION:Orangetheory Concord\, Concord\, MA
CATEGORIES:Rally,Rally for Runway
ATTACH;FMTTYPE=image/jpeg:https://runwayforrecovery.org/wp-content/uploads/2025/02/IMG_9535.jpg
END:VEVENT
BEGIN:VEVENT
DTSTART;TZID=America/New_York:20250614T100000
DTEND;TZID=America/New_York:20250614T120000
DTSTAMP:20260423T164422
CREATED:20250505T210718Z
LAST-MODIFIED:20250506T110346Z
UID:10000158-1749895200-1749902400@runwayforrecovery.org
SUMMARY:Rally for Runway: hardKore Pilates
DESCRIPTION:Coming together as a community is a way that all of us can make a difference when it comes to breast cancer. Runway and hardKore Pilates are joining forces and hosting a Rally for Runway event on Saturday\, June 14th in honor of Father’s Day Weekend. \nReformer Pilates Class: This is hardKore’s signature Reformer Pilates class designed for all levels\, offering a mix of foundational moves combined with some athletic challenges and dynamic and fun progressions . We’ll use props like the loop band\, ring\, ball and ankle weights to keep things exciting and varied. With a small group setting \, we will guide you through each movement and be there to assist and ensure you feel supported every step of the way. This class is all about building strength\, flexibility\, and confidence in a welcoming environment where everyone can feel comfortable and engaged. \nThere will be two classes — one at 10 a.m. and one at 11 a.m. — 7 people can take each class! \nRegister or Donate
URL:https://runwayforrecovery.org/event-calendar/rally-for-runway-hardkore-pilates/
LOCATION:hardKore Pilates\, 280 Main St Suite 101\, North Reading\, MA\, 01864
CATEGORIES:Rally,Rally for Runway
ATTACH;FMTTYPE=image/jpeg:https://runwayforrecovery.org/wp-content/uploads/2025/05/CMP_0033_Original-scaled.jpg
GEO:42.6372145;-71.1278446
X-APPLE-STRUCTURED-LOCATION;VALUE=URI;X-ADDRESS=hardKore Pilates 280 Main St Suite 101 North Reading MA 01864;X-APPLE-RADIUS=500;X-TITLE=280 Main St Suite 101:geo:-71.1278446,42.6372145
END:VEVENT
BEGIN:VEVENT
DTSTART;TZID=America/New_York:20250614T134500
DTEND;TZID=America/New_York:20250614T143000
DTSTAMP:20260423T164422
CREATED:20250312T185735Z
LAST-MODIFIED:20250325T204656Z
UID:10000146-1749908700-1749911400@runwayforrecovery.org
SUMMARY:Rally for Runway: SoulCycle
DESCRIPTION:Coming together as a community is a way that all of us can make a difference when it comes to breast cancer. Runway and SoulCycle are joining forces this June at their Chestnut Hill\, MA location\, for an epic ride at 1:45 p.m. \nJoin us to Rally for Runway with your friends and family so that we can continue to make an impact in the lives of families that we fund. \n \nRegister or Donate
URL:https://runwayforrecovery.org/event-calendar/rally-for-runway-soul-cycle/
LOCATION:SoulCycle Chestnut Hill\, MA\, 200-230 Boylston Street\, Chestnut Hill\, MA\, 02467\, United States
CATEGORIES:Rally,Wellness Program
ATTACH;FMTTYPE=image/webp:https://runwayforrecovery.org/wp-content/uploads/2025/03/soulcycle-scaled.webp
GEO:42.3190124;-71.1751658
X-APPLE-STRUCTURED-LOCATION;VALUE=URI;X-ADDRESS=SoulCycle Chestnut Hill MA 200-230 Boylston Street Chestnut Hill MA 02467 United States;X-APPLE-RADIUS=500;X-TITLE=200-230 Boylston Street:geo:-71.1751658,42.3190124
END:VEVENT
END:VCALENDAR