BEGIN:VCALENDAR
VERSION:2.0
PRODID:-//Runway for Recovery - ECPv6.15.16//NONSGML v1.0//EN
CALSCALE:GREGORIAN
METHOD:PUBLISH
X-WR-CALNAME:Runway for Recovery
X-ORIGINAL-URL:https://runwayforrecovery.org
X-WR-CALDESC:Events for Runway for Recovery
REFRESH-INTERVAL;VALUE=DURATION:PT1H
X-Robots-Tag:noindex
X-PUBLISHED-TTL:PT1H
BEGIN:VTIMEZONE
TZID:UTC
BEGIN:STANDARD
TZOFFSETFROM:+0000
TZOFFSETTO:+0000
TZNAME:UTC
DTSTART:20230101T000000
END:STANDARD
END:VTIMEZONE
BEGIN:VTIMEZONE
TZID:America/Los_Angeles
BEGIN:DAYLIGHT
TZOFFSETFROM:-0800
TZOFFSETTO:-0700
TZNAME:PDT
DTSTART:20230312T100000
END:DAYLIGHT
BEGIN:STANDARD
TZOFFSETFROM:-0700
TZOFFSETTO:-0800
TZNAME:PST
DTSTART:20231105T090000
END:STANDARD
BEGIN:DAYLIGHT
TZOFFSETFROM:-0800
TZOFFSETTO:-0700
TZNAME:PDT
DTSTART:20240310T100000
END:DAYLIGHT
BEGIN:STANDARD
TZOFFSETFROM:-0700
TZOFFSETTO:-0800
TZNAME:PST
DTSTART:20241103T090000
END:STANDARD
BEGIN:DAYLIGHT
TZOFFSETFROM:-0800
TZOFFSETTO:-0700
TZNAME:PDT
DTSTART:20250309T100000
END:DAYLIGHT
BEGIN:STANDARD
TZOFFSETFROM:-0700
TZOFFSETTO:-0800
TZNAME:PST
DTSTART:20251102T090000
END:STANDARD
END:VTIMEZONE
BEGIN:VTIMEZONE
TZID:America/Halifax
BEGIN:DAYLIGHT
TZOFFSETFROM:-0400
TZOFFSETTO:-0300
TZNAME:ADT
DTSTART:20230312T060000
END:DAYLIGHT
BEGIN:STANDARD
TZOFFSETFROM:-0300
TZOFFSETTO:-0400
TZNAME:AST
DTSTART:20231105T050000
END:STANDARD
BEGIN:DAYLIGHT
TZOFFSETFROM:-0400
TZOFFSETTO:-0300
TZNAME:ADT
DTSTART:20240310T060000
END:DAYLIGHT
BEGIN:STANDARD
TZOFFSETFROM:-0300
TZOFFSETTO:-0400
TZNAME:AST
DTSTART:20241103T050000
END:STANDARD
BEGIN:DAYLIGHT
TZOFFSETFROM:-0400
TZOFFSETTO:-0300
TZNAME:ADT
DTSTART:20250309T060000
END:DAYLIGHT
BEGIN:STANDARD
TZOFFSETFROM:-0300
TZOFFSETTO:-0400
TZNAME:AST
DTSTART:20251102T050000
END:STANDARD
END:VTIMEZONE
BEGIN:VTIMEZONE
TZID:America/New_York
BEGIN:DAYLIGHT
TZOFFSETFROM:-0500
TZOFFSETTO:-0400
TZNAME:EDT
DTSTART:20230312T070000
END:DAYLIGHT
BEGIN:STANDARD
TZOFFSETFROM:-0400
TZOFFSETTO:-0500
TZNAME:EST
DTSTART:20231105T060000
END:STANDARD
BEGIN:DAYLIGHT
TZOFFSETFROM:-0500
TZOFFSETTO:-0400
TZNAME:EDT
DTSTART:20240310T070000
END:DAYLIGHT
BEGIN:STANDARD
TZOFFSETFROM:-0400
TZOFFSETTO:-0500
TZNAME:EST
DTSTART:20241103T060000
END:STANDARD
BEGIN:DAYLIGHT
TZOFFSETFROM:-0500
TZOFFSETTO:-0400
TZNAME:EDT
DTSTART:20250309T070000
END:DAYLIGHT
BEGIN:STANDARD
TZOFFSETFROM:-0400
TZOFFSETTO:-0500
TZNAME:EST
DTSTART:20251102T060000
END:STANDARD
BEGIN:DAYLIGHT
TZOFFSETFROM:-0500
TZOFFSETTO:-0400
TZNAME:EDT
DTSTART:20260308T070000
END:DAYLIGHT
BEGIN:STANDARD
TZOFFSETFROM:-0400
TZOFFSETTO:-0500
TZNAME:EST
DTSTART:20261101T060000
END:STANDARD
END:VTIMEZONE
BEGIN:VEVENT
DTSTART;VALUE=DATE:20241016
DTEND;VALUE=DATE:20241017
DTSTAMP:20260424T082117
CREATED:20241009T165037Z
LAST-MODIFIED:20241009T165037Z
UID:10000134-1729036800-1729123199@runwayforrecovery.org
SUMMARY:Playing for Pink: Shrewsbury Football
DESCRIPTION:The Shrewsbury Football Team will come together to play in honor of those impacted by breast cancer. \n \nDonate or Join a Team
URL:https://runwayforrecovery.org/event-calendar/playing-for-pink-shrewsbury-football/
LOCATION:NY
CATEGORIES:Play for Runway
ATTACH;FMTTYPE=image/jpeg:https://runwayforrecovery.org/wp-content/uploads/2024/10/Shrewsbury-MS-Pink-Game-1-scaled.jpg
END:VEVENT
BEGIN:VEVENT
DTSTART;VALUE=DATE:20241016
DTEND;VALUE=DATE:20241017
DTSTAMP:20260424T082117
CREATED:20240921T215342Z
LAST-MODIFIED:20240921T220403Z
UID:10000130-1729036800-1729123199@runwayforrecovery.org
SUMMARY:Playing for Pink: Newburyport Field Hockey
DESCRIPTION:The Newburyport High Field Hockey team will come together to play in honor of those impacted by breast cancer. \n \nDonate or Join a Team
URL:https://runwayforrecovery.org/event-calendar/playing-for-pink-newburyport-field-hockey-2/
LOCATION:NY
CATEGORIES:Play for Runway
ATTACH;FMTTYPE=image/jpeg:https://runwayforrecovery.org/wp-content/uploads/2024/09/IMG_0991r4r-1-scaled.jpg
END:VEVENT
BEGIN:VEVENT
DTSTART;TZID=America/Los_Angeles:20241017T180000
DTEND;TZID=America/Los_Angeles:20241017T193000
DTSTAMP:20260424T082117
CREATED:20240821T180307Z
LAST-MODIFIED:20240913T191234Z
UID:10000091-1729188000-1729193400@runwayforrecovery.org
SUMMARY:Rally for Runway: Energy Barre
DESCRIPTION:Coming together as a community is a way that all of us can make a difference when it comes to breast cancer. Runway and Energy Barre are joining forces for the third year in a row this October. \nIn honor of a local Stoneham Runway Model\, Brienne Black\, we will gather to honor the impact that breast cancer has had on her life. Join us for an inspirational and impactful workout with Brienne and the Energy Barre community. \n \nRegister or Donate
URL:https://runwayforrecovery.org/event-calendar/rally-for-runway-energy-barre-2/
LOCATION:Energy Barre\, Central Street\, Stoneham\, Massachusetts\, 02180\, United States
CATEGORIES:Rally,Wellness Program
ATTACH;FMTTYPE=image/jpeg:https://runwayforrecovery.org/wp-content/uploads/2024/08/energy-barre-30-day-pass.jpg
GEO:42.4794175;-71.0999619
X-APPLE-STRUCTURED-LOCATION;VALUE=URI;X-ADDRESS=Energy Barre Central Street Stoneham Massachusetts 02180 United States;X-APPLE-RADIUS=500;X-TITLE=Central Street:geo:-71.0999619,42.4794175
END:VEVENT
BEGIN:VEVENT
DTSTART;TZID=America/Los_Angeles:20241018T120000
DTEND;TZID=America/Los_Angeles:20241018T130000
DTSTAMP:20260424T082117
CREATED:20240806T155945Z
LAST-MODIFIED:20240820T201234Z
UID:10000083-1729252800-1729256400@runwayforrecovery.org
SUMMARY:Rally for Runway: Seek x Radiant Yoga\, Newport Beach
DESCRIPTION:Radiant Hot Yoga is hosting a yoga event to benefit Runway for Recovery. Runway for Recovery is a 501(c)3 charity that supports local families affected by breast cancer. \nDarlene\, renowned yoga instructor and owner of Radiant\, has generously donated her teaching and her studio for this impactful event. She will teach a one hour warm class focused on movement and restoration. \nAfter the class\, there will be a chance to recharge with delicious smoothies\, connect with friends\, and a chance to speak with Runway’s Executive Director and Founder\, Olivia Boger. \nThis event is sponsored and supported by Seek and Colleen Rivers. Seek’s mission is to  inspire simple changes that are transformative and guide you on your journey to restored health\, renewed connections and a greater joy of living. \n \n \nRegister or Donate
URL:https://runwayforrecovery.org/event-calendar/rally-for-runway-seek-x-radiant-yoga-newport-beach/
LOCATION:Radiant Hot Yoga\, Bison Avenue\, Newport Beach\, CA\, 92660\, United States
CATEGORIES:Rally,Wellness Program
GEO:33.6384792;-117.863881
X-APPLE-STRUCTURED-LOCATION;VALUE=URI;X-ADDRESS=Radiant Hot Yoga Bison Avenue Newport Beach CA 92660 United States;X-APPLE-RADIUS=500;X-TITLE=Bison Avenue:geo:-117.863881,33.6384792
END:VEVENT
BEGIN:VEVENT
DTSTART;TZID=America/Los_Angeles:20241019T064500
DTEND;TZID=America/Los_Angeles:20241019T101500
DTSTAMP:20260424T082117
CREATED:20240806T144503Z
LAST-MODIFIED:20240821T170026Z
UID:10000085-1729320300-1729332900@runwayforrecovery.org
SUMMARY:Rally for Runway: NLPT\, Placentia
DESCRIPTION:Coming together as a community is a way that all of us can make a difference when it comes to breast cancer. Runway and NLPT are joining forces to do just that for the third year in a row. In honor of our co-host’s commitment to expanding the Runway for Recovery community and programming to SoCal\, we will hear from them about the impact of our work in the Orange and LA counties\, along with the reason why this organization has inspired them. It will be an impactful and meaningful workout class that you do not want to miss. \nJoin us on October 19 at 6:45 a.m.\, 8:00 a.m.\, or 9:15 a.m. to work out in support of breast cancer awareness month and the work that Runway for Recovery does to change the experience for those impacted by the disease. \n*Members are free but we encourage them to make a donation! \n  \n \n  \nRegister or Donate
URL:https://runwayforrecovery.org/event-calendar/rally-for-runway-nlpt-placentia/
LOCATION:NLPT\, 980 S Via Rodea\, Placentia\, CA\, 92870
CATEGORIES:Rally,Wellness Program
GEO:33.8625011;-117.8193739
X-APPLE-STRUCTURED-LOCATION;VALUE=URI;X-ADDRESS=NLPT 980 S Via Rodea Placentia CA 92870;X-APPLE-RADIUS=500;X-TITLE=980 S Via Rodea:geo:-117.8193739,33.8625011
END:VEVENT
BEGIN:VEVENT
DTSTART;TZID=UTC:20241019T080000
DTEND;TZID=UTC:20241019T080000
DTSTAMP:20260424T082117
CREATED:20240916T141853Z
LAST-MODIFIED:20240916T142017Z
UID:10000094-1729324800-1729324800@runwayforrecovery.org
SUMMARY:Fairview Park Pickleball Club: Pickleball Tournament
DESCRIPTION:Grab your paddles! The Fairview Park Pickleball Club is hosting “Dink for Pink”\, a pickleball tournament supporting Runway for Recovery. The event will be held at Fairview Park on Saturday\, October 19th at 8am. This is not an official Runway for Recovery event\, but proceeds are donated to the organization. \nScreenshot
URL:https://runwayforrecovery.org/event-calendar/pickleball-tournament/
LOCATION:Fairview Park\, Staten Island\, NY\, 10309\, United States
ATTACH;FMTTYPE=image/jpeg:https://runwayforrecovery.org/wp-content/uploads/2024/09/what-is-pickleball-group-rally.jpg
GEO:40.5297014;-74.230326
END:VEVENT
BEGIN:VEVENT
DTSTART;TZID=America/Los_Angeles:20241020T090000
DTEND;TZID=America/Los_Angeles:20241020T100000
DTSTAMP:20260424T082117
CREATED:20241002T212112Z
LAST-MODIFIED:20241002T212214Z
UID:10000133-1729414800-1729418400@runwayforrecovery.org
SUMMARY:Rally for Runway: FreddyLive Fitness
DESCRIPTION:Coming together as a community is a way that all of us can make a difference when it comes to breast cancer. Runway and FreddyLive Fitness are joining forces this October. In honor of a local New England Runway Model\, Andreia Sacca\, we will gather to honor the impact that breast cancer has had on her life. Join us for an inspirational and impactful kickboxing class with Andreia and the FreddyLive Fitness community. The class will take place on the Woburn Village Green\, and it will also feature a raffle. \n \nRegister or Donate
URL:https://runwayforrecovery.org/event-calendar/rally-for-runway-freddylive-fitness/
LOCATION:FreddyLive Fitness\, Mishawum Road\, Woburn\, MA\, 01801\, United States
CATEGORIES:Rally,Wellness Program
ATTACH;FMTTYPE=image/jpeg:https://runwayforrecovery.org/wp-content/uploads/2024/10/PBCSLakeWalkPopUp-28-e1694198756223.jpg
GEO:42.505451;-71.1350378
X-APPLE-STRUCTURED-LOCATION;VALUE=URI;X-ADDRESS=FreddyLive Fitness Mishawum Road Woburn MA 01801 United States;X-APPLE-RADIUS=500;X-TITLE=Mishawum Road:geo:-71.1350378,42.505451
END:VEVENT
BEGIN:VEVENT
DTSTART;VALUE=DATE:20241025
DTEND;VALUE=DATE:20241026
DTSTAMP:20260424T082117
CREATED:20240921T215506Z
LAST-MODIFIED:20240921T220440Z
UID:10000131-1729814400-1729900799@runwayforrecovery.org
SUMMARY:Playing for Pink: Dana Hall
DESCRIPTION:The Dana Hall teams will come together to play in honor of those impacted by breast cancer. \n \nDonate or Join a Team
URL:https://runwayforrecovery.org/event-calendar/playing-for-pink-dana-hall-2/
LOCATION:NY
CATEGORIES:Play for Runway
ATTACH;FMTTYPE=image/jpeg:https://runwayforrecovery.org/wp-content/uploads/2024/09/IMG_0447.jpg
END:VEVENT
BEGIN:VEVENT
DTSTART;VALUE=DATE:20241025
DTEND;VALUE=DATE:20241026
DTSTAMP:20260424T082117
CREATED:20240921T214849Z
LAST-MODIFIED:20241002T212307Z
UID:10000128-1729814400-1729900799@runwayforrecovery.org
SUMMARY:Playing for Pink: Pentucket Field Hockey
DESCRIPTION:The Pentucket Field Hockey team will come together to play in honor of those impacted by breast cancer.\n\nDonate or Join a Team
URL:https://runwayforrecovery.org/event-calendar/playing-for-pink-pentucket-field-hockey/
LOCATION:NY
CATEGORIES:Play for Runway
ATTACH;FMTTYPE=image/jpeg:https://runwayforrecovery.org/wp-content/uploads/2024/09/IMG_1199r4r-scaled.jpg
END:VEVENT
BEGIN:VEVENT
DTSTART;TZID=America/Halifax:20241025T183000
DTEND;TZID=America/Halifax:20241025T183000
DTSTAMP:20260424T082117
CREATED:20240708T224903Z
LAST-MODIFIED:20240929T151826Z
UID:10000076-1729881000-1729881000@runwayforrecovery.org
SUMMARY:The Runway Show\, New England
DESCRIPTION:Our largest event of the year is the annual Runway Show that celebrates those who are fighting\, remembers those who have passed\, and inspires us to support those who have been impacted by breast cancer. This is not your typical fashion show—it is a night for all of us to redefine this disease\, for us to connect and support one another\, and most importantly\, to dance in honor of all those impacted by breast cancer. \nThe 18th annual Runway Show\, New England will be held on Friday\, October 25\, 2024 at The Westin Seaport Hotel in Boston. \nEvening Schedule\n6:00 — VIP Guest Reception begins\n6:30 — Cocktail hour begins for general admissions & Cande’s Circle guests\n7:30 — Doors Open for fashion show\n8:45 — Show concludes and post-dance party begins\n10:30 — Event concludes\n \nSuggested Attire — fun and fabulous \nRefreshment Information\nDuring cocktail hour\, there are heavy small plates and passed hors d’oeuvres along with complimentary 90+ wine and a speciality tequila drink. Guests may also purchase different cocktails at the cash bar. During the post-dance party\, dessert will be served. \nRegister or Donate
URL:https://runwayforrecovery.org/event-calendar/the-runway-show-new-england-2/
LOCATION:Westin Seaport Hotel\, 425 Summer Street\, Boston\, MA\, 02210\, United States
CATEGORIES:Fundraising,Marketing,Program
ATTACH;FMTTYPE=image/jpeg:https://runwayforrecovery.org/wp-content/uploads/2024/06/2023_Runway-3919.jpg
GEO:42.346237462414;-71.04298737448
X-APPLE-STRUCTURED-LOCATION;VALUE=URI;X-ADDRESS=Westin Seaport Hotel 425 Summer Street Boston MA 02210 United States;X-APPLE-RADIUS=500;X-TITLE=425 Summer Street:geo:-71.04298737448,42.346237462414
END:VEVENT
BEGIN:VEVENT
DTSTART;TZID=UTC:20241029T120000
DTEND;TZID=UTC:20241029T160000
DTSTAMP:20260424T082117
CREATED:20241002T141622Z
LAST-MODIFIED:20241002T141622Z
UID:10000132-1730203200-1730217600@runwayforrecovery.org
SUMMARY:J McLaughlin: Sip & Shop
DESCRIPTION:Join us at J McLaughlin on October 29 at 12:00pm for a Sip & Shop event! Enjoy a delightful morning of shopping while sipping on refreshing drinks\, and feel good knowing that 15% of all proceeds will go to Runway for Recovery. Bring your friends and support a great cause while discovering the latest styles. \n \n*This is not an official Runway for Recovery event
URL:https://runwayforrecovery.org/event-calendar/j-mclaughlin-sip-shop/
LOCATION:J McLaughlin\, Central Street\, Manchester-by-the-Sea\, MA\, 01944\, United States
ATTACH;FMTTYPE=image/webp:https://runwayforrecovery.org/wp-content/uploads/2024/10/230614_J_McLaughlin_Shot_21_0651_v4_QC_2_R72_2560px.webp
GEO:42.5754171;-70.7721589
X-APPLE-STRUCTURED-LOCATION;VALUE=URI;X-ADDRESS=J McLaughlin Central Street Manchester-by-the-Sea MA 01944 United States;X-APPLE-RADIUS=500;X-TITLE=Central Street:geo:-70.7721589,42.5754171
END:VEVENT
BEGIN:VEVENT
DTSTART;TZID=America/New_York:20241212T170000
DTEND;TZID=America/New_York:20241212T190000
DTSTAMP:20260424T082117
CREATED:20241203T183721Z
LAST-MODIFIED:20241210T121036Z
UID:10000135-1734022800-1734030000@runwayforrecovery.org
SUMMARY:Sip & Shop at Veronica Beard\, NYC
DESCRIPTION:Grab your friends and come do some holiday shopping in support of Runway for Recovery. Veronica Beard is generously donating 15% of sales to Runway at their 988 Madison Ave\, New York\, NY location — the new date will be closer to our event in February. \nThis event is generously hosted by our New York City Committee: \nJasmin Clavasquin\, Christopher DeFilippi\, Christa D’Alimonte\, Karen Elizaga\, Chloe Epstein\, Toby Florman\, Alex Hanken\, Kari Hershey\, Amy Kazanoff\, Alexandra Lari\, Marcie Pantzer\, Kathryn Bailis Phillips\, Linda Matzkin\, Jennifer Bayer Michaels\, Jen Miller\, Carolyn Rosen\, Elizabeth R Sheehan\, Robyn Ufer & Michelle Kaplan Usitalo. \nCan’t attend in store? Contact (646) 930-4746 to place a phone order and your purchase will be included in the donation. \nPlease RSVP by emailing MadisonRSVP@veronicabeard.com
URL:https://runwayforrecovery.org/event-calendar/vb_r4r/
LOCATION:Veronica Beard\, New York City\, 988 Madison Ave\, New York\, NY\, 10075\, United States
CATEGORIES:Outreach
ATTACH;FMTTYPE=image/jpeg:https://runwayforrecovery.org/wp-content/uploads/2024/12/R4R_NYC.jpeg
GEO:40.7749671;-73.963311
X-APPLE-STRUCTURED-LOCATION;VALUE=URI;X-ADDRESS=Veronica Beard New York City 988 Madison Ave New York NY 10075 United States;X-APPLE-RADIUS=500;X-TITLE=988 Madison Ave:geo:-73.963311,40.7749671
END:VEVENT
BEGIN:VEVENT
DTSTART;TZID=America/New_York:20250108T160000
DTEND;TZID=America/New_York:20250108T180000
DTSTAMP:20260424T082117
CREATED:20241203T203415Z
LAST-MODIFIED:20241203T203415Z
UID:10000136-1736352000-1736359200@runwayforrecovery.org
SUMMARY:Sip & Shop at Veronica Beard\, SoCal
DESCRIPTION:Grab your friends and come do some holiday shopping in support of Runway for Recovery. Veronica Beard is generously donating 15% of sales to Runway on Wednesday\, January 8 from 4-6 p.m. at their 587 Newport Center Drive\, Newport Beach\, CA location. \nThis event is generously hosted by our Southern California Committee: \nMelissa Rudolph\, Candace Rock\, Tanja Cebula\, Nicole Fischer\, Laura Gromis\, Kimi Lee\, Dana Porter & Colleen Rivers \nCan’t attend in store? Contact (949) 996-9030 to place a phone order and your purchase will be included in the donation. \nPlease RSVP by emailing FashionIslandRSVP@veronicabeard.com
URL:https://runwayforrecovery.org/event-calendar/sip-shop-at-veronica-beard-socal/
LOCATION:Veronica Beard\, SoCal\, Newport Center Drive 587\, Newport Beach\, CA\, 92660\, United States
CATEGORIES:Outreach
ATTACH;FMTTYPE=image/jpeg:https://runwayforrecovery.org/wp-content/uploads/2024/12/R4R_Newport.jpg
GEO:33.6179897;-117.8729875
X-APPLE-STRUCTURED-LOCATION;VALUE=URI;X-ADDRESS=Veronica Beard SoCal Newport Center Drive 587 Newport Beach CA 92660 United States;X-APPLE-RADIUS=500;X-TITLE=Newport Center Drive 587:geo:-117.8729875,33.6179897
END:VEVENT
END:VCALENDAR