BEGIN:VCALENDAR
VERSION:2.0
PRODID:-//Runway for Recovery - ECPv6.15.16//NONSGML v1.0//EN
CALSCALE:GREGORIAN
METHOD:PUBLISH
X-ORIGINAL-URL:https://runwayforrecovery.org
X-WR-CALDESC:Events for Runway for Recovery
REFRESH-INTERVAL;VALUE=DURATION:PT1H
X-Robots-Tag:noindex
X-PUBLISHED-TTL:PT1H
BEGIN:VTIMEZONE
TZID:America/New_York
BEGIN:DAYLIGHT
TZOFFSETFROM:-0500
TZOFFSETTO:-0400
TZNAME:EDT
DTSTART:20250309T070000
END:DAYLIGHT
BEGIN:STANDARD
TZOFFSETFROM:-0400
TZOFFSETTO:-0500
TZNAME:EST
DTSTART:20251102T060000
END:STANDARD
BEGIN:DAYLIGHT
TZOFFSETFROM:-0500
TZOFFSETTO:-0400
TZNAME:EDT
DTSTART:20260308T070000
END:DAYLIGHT
BEGIN:STANDARD
TZOFFSETFROM:-0400
TZOFFSETTO:-0500
TZNAME:EST
DTSTART:20261101T060000
END:STANDARD
BEGIN:DAYLIGHT
TZOFFSETFROM:-0500
TZOFFSETTO:-0400
TZNAME:EDT
DTSTART:20270314T070000
END:DAYLIGHT
BEGIN:STANDARD
TZOFFSETFROM:-0400
TZOFFSETTO:-0500
TZNAME:EST
DTSTART:20271107T060000
END:STANDARD
END:VTIMEZONE
BEGIN:VEVENT
DTSTART;TZID=America/New_York:20260611T183000
DTEND;TZID=America/New_York:20260611T210000
DTSTAMP:20260419T132039
CREATED:20260316T010550Z
LAST-MODIFIED:20260413T164927Z
UID:10000223-1781202600-1781211600@runwayforrecovery.org
SUMMARY:5th Anniversary Love for Runway\, Newburyport
DESCRIPTION:Join us for an unforgettable evening as Love for Runway returns to Newburyport—bringing together a powerful community of supporters\, families\, and local businesses in honor of those impacted by breast cancer. \nOver the years\, Love for Runway Newburyport has grown into a meaningful tradition—one rooted in storytelling\, connection\, and collective impact. This year’s event will once again gather our community along the waterfront for a night that is both celebratory and deeply inspiring. \nThe evening will feature a moving program of speakers\, including a return of past voices who have helped shape this event\, alongside new stories that continue to expand its impact. This year’s speakers include: \nMarci Eiserman\, Shauna Epstein\, Alissa Christie\, Renee Plozdik\, Julie Clemente\, Amy Burke\, Alivia Collette\, and Lori Levans\, with additional speakers to be announced. \nGuests will also enjoy a “Taste of Newburyport\,” where some of the area’s most beloved restaurants will offer curated small bites—creating a unique culinary experience and a perfect way to discover local favorites for the summer ahead. We are so excited to announce that the participating restaurants will be: Brine Oyster Bar\, Bar25\, The Poynt Newburyport\, Port Vida a Mexican Cantina\, and Paddle Inn. The cocktails and drinks for the night will be hosted by Bubble Bar Amesbury. \nThroughout the weeks leading up to and following the event\, Newburyport businesses will rally in support of Runway for Recovery—hosting special promotions\, donating a portion of proceeds\, and creating opportunities to give back to families facing metastatic breast cancer. \nWe are proud to celebrate the continued growth of this event and the community that makes it possible. Proceeds from the evening directly support families in treatment\, helping to relieve financial burdens so they can focus on what matters most. \nWe hope you will join us for this special evening of community\, purpose\, and impact. Tickets are now on sale for our VIP and General Admissions options. \nTickets and Sponsorships \n  \nThank you to our Newburyport Steering Committee: Cate Adamopolous\, Rachel Carter\, Shauna Epstein\, Meagan Fitzgerald\, Kaitlyn Freeman\, Megan Hensher\, Sarah Kelley\, Meghan Larson\, Michelle Lynch\, Shelly Lynch\, Shannon Merkel\, Whitney Mohler\, Tasha Nathan\, Laurie Novak\, Alyssa Ritter\, Merinda Salsky\, Lindsay Sarno\, Jillian Sheehan\, Melena Ward\, and Allie Zolotas.
URL:https://runwayforrecovery.org/event-calendar/love-for-runway-in-newburyport-2/
LOCATION:Inn Street Newburyport\, Newburyport\, MA
CATEGORIES:Fundraising,Love for Runway
ATTACH;FMTTYPE=image/jpeg:https://runwayforrecovery.org/wp-content/uploads/2026/03/loveforrunwayprint-20-2.jpg
END:VEVENT
END:VCALENDAR