BEGIN:VCALENDAR
VERSION:2.0
PRODID:-//Runway for Recovery - ECPv6.15.16//NONSGML v1.0//EN
CALSCALE:GREGORIAN
METHOD:PUBLISH
X-WR-CALNAME:Runway for Recovery
X-ORIGINAL-URL:https://runwayforrecovery.org
X-WR-CALDESC:Events for Runway for Recovery
REFRESH-INTERVAL;VALUE=DURATION:PT1H
X-Robots-Tag:noindex
X-PUBLISHED-TTL:PT1H
BEGIN:VTIMEZONE
TZID:America/New_York
BEGIN:DAYLIGHT
TZOFFSETFROM:-0500
TZOFFSETTO:-0400
TZNAME:EDT
DTSTART:20240310T070000
END:DAYLIGHT
BEGIN:STANDARD
TZOFFSETFROM:-0400
TZOFFSETTO:-0500
TZNAME:EST
DTSTART:20241103T060000
END:STANDARD
BEGIN:DAYLIGHT
TZOFFSETFROM:-0500
TZOFFSETTO:-0400
TZNAME:EDT
DTSTART:20250309T070000
END:DAYLIGHT
BEGIN:STANDARD
TZOFFSETFROM:-0400
TZOFFSETTO:-0500
TZNAME:EST
DTSTART:20251102T060000
END:STANDARD
BEGIN:DAYLIGHT
TZOFFSETFROM:-0500
TZOFFSETTO:-0400
TZNAME:EDT
DTSTART:20260308T070000
END:DAYLIGHT
BEGIN:STANDARD
TZOFFSETFROM:-0400
TZOFFSETTO:-0500
TZNAME:EST
DTSTART:20261101T060000
END:STANDARD
END:VTIMEZONE
BEGIN:VTIMEZONE
TZID:UTC
BEGIN:STANDARD
TZOFFSETFROM:+0000
TZOFFSETTO:+0000
TZNAME:UTC
DTSTART:20250101T000000
END:STANDARD
END:VTIMEZONE
BEGIN:VEVENT
DTSTART;TZID=America/New_York:20250807T114500
DTEND;TZID=America/New_York:20250807T124500
DTSTAMP:20260424T160914
CREATED:20250703T010008Z
LAST-MODIFIED:20250721T201834Z
UID:10000167-1754567100-1754570700@runwayforrecovery.org
SUMMARY:Rally for Runway: SoulCycle\, The Barn
DESCRIPTION:Coming together as a community is a way that all of us can make a difference when it comes to breast cancer. Runway and SoulCycle are joining forces for the second time this August at the premier location\, The Barn\, in Bridgehampton\, NY for an epic ride with Master Instructor\, Runway Model\, and breast cancer advocate\, Stacey Griffith. We are so honored to have Stacey not only dancing on our stage\, but leading us in a life-changing SoulCycle class at the O.G. location. You do not want to miss this event! \nThank you so much to Out East Fitness for helping us set-up Runway in The Hamptons! \n \n \n  \nGrab a Bike or Donate
URL:https://runwayforrecovery.org/event-calendar/rally-for-runway-soul-cycle-the-barn-2/
LOCATION:Soul Cycle\, The Barn\, Butter Lane\, Bridgehampton\, NY\, 11932\, United States
CATEGORIES:Rally,Wellness Program
ATTACH;FMTTYPE=image/jpeg:https://runwayforrecovery.org/wp-content/uploads/2025/07/SoulCycle-Barn.jpg
GEO:40.9408561;-72.312933
X-APPLE-STRUCTURED-LOCATION;VALUE=URI;X-ADDRESS=Soul Cycle The Barn Butter Lane Bridgehampton NY 11932 United States;X-APPLE-RADIUS=500;X-TITLE=Butter Lane:geo:-72.312933,40.9408561
END:VEVENT
BEGIN:VEVENT
DTSTART;TZID=America/New_York:20250808T103000
DTEND;TZID=America/New_York:20250808T124500
DTSTAMP:20260424T160914
CREATED:20250707T190450Z
LAST-MODIFIED:20250717T184142Z
UID:10000168-1754649000-1754657100@runwayforrecovery.org
SUMMARY:Rally for Runway: TREMBLE SOUTHAMPTON
DESCRIPTION:Coming together as a community is a way that all of us can make a difference when it comes to breast cancer. Runway and TREMBLE SOUTHAMPTON are joining forces for the first time this August at their Hamptons location. \nThis is a high intensity\, low impact heart pumping full body workout that combines the best of strength training\, cardio and Pilates inspired movements all in one session on reformers. We focus on full body functional movements centered around the core that will make you stronger both mentally and physically. TREMBLE classes are conducted in a boutique\, upscale environment limited in sizes to give you the attention you need. TREMBLE to the rhythm of curated playlists from our instructors that will get you pumped up and sweaty. \nThank you so much to Out East Fitness for helping us set-up Runway in The Hamptons! \n \nGrab a Spot or Donate
URL:https://runwayforrecovery.org/event-calendar/rally-for-runway-tremble-the-hamptons/
LOCATION:TREMBLE\, 25 Hill Street\, Southhampton\, 11968\, United States
CATEGORIES:Rally,Wellness Program
ATTACH;FMTTYPE=image/png:https://runwayforrecovery.org/wp-content/uploads/2025/07/Screenshot-2025-07-13-at-1.07.31 PM.png
GEO:40.8839657;-72.3939207
X-APPLE-STRUCTURED-LOCATION;VALUE=URI;X-ADDRESS=TREMBLE 25 Hill Street Southhampton 11968 United States;X-APPLE-RADIUS=500;X-TITLE=25 Hill Street:geo:-72.3939207,40.8839657
END:VEVENT
BEGIN:VEVENT
DTSTART;TZID=America/New_York:20250815T093000
DTEND;TZID=America/New_York:20250815T103000
DTSTAMP:20260424T160914
CREATED:20250713T151607Z
LAST-MODIFIED:20250717T184230Z
UID:10000171-1755250200-1755253800@runwayforrecovery.org
SUMMARY:Rally for Runway: Gurney's Resort & Spa
DESCRIPTION:Coming together as a community is a way that all of us can make a difference when it comes to breast cancer. Runway and Gurney’s Resort & Spa Montauk are joining forces for the first time this August. \nJoin us for a Pilates Sculpt class– a powerful combination of Pilates and sculpt\, to build small muscle groups\, to lengthen and strengthen the body. Beloved instructor\, Kat Ruiz will be teaching this class. \nThank you so much to Out East Fitness for helping us set-up Runway in The Hamptons! \n \n  \nGrab a Spot or Donate
URL:https://runwayforrecovery.org/event-calendar/rally-for-runway-gurneys-resort-spa/
LOCATION:Gurney’s Resort & Spa Montauk\, 290 Old Montauk Hwy\, Montauk\, NY\, 11954
CATEGORIES:Rally,Wellness Program
ATTACH;FMTTYPE=image/png:https://runwayforrecovery.org/wp-content/uploads/2025/07/Gurneys-Montauk-3.png
GEO:41.0159831;-71.9926233
X-APPLE-STRUCTURED-LOCATION;VALUE=URI;X-ADDRESS=Gurney’s Resort & Spa Montauk 290 Old Montauk Hwy Montauk NY 11954;X-APPLE-RADIUS=500;X-TITLE=290 Old Montauk Hwy:geo:-71.9926233,41.0159831
END:VEVENT
BEGIN:VEVENT
DTSTART;TZID=America/New_York:20250928T160000
DTEND;TZID=America/New_York:20250928T173000
DTSTAMP:20260424T160914
CREATED:20250722T193349Z
LAST-MODIFIED:20250722T193349Z
UID:10000174-1759075200-1759080600@runwayforrecovery.org
SUMMARY:Rally for Runway: FORM Fitness
DESCRIPTION:Coming together as a community is a way that all of us can make a difference when it comes to breast cancer. Runway and FORM Fitness are joining forces this September for the first time at their premier Portsmouth location. Join us for an unforgettable workout. \nWe are honored to do this in celebration of Sarah Hickey\, a metastatic stage IV patient. \n \nGrab a Spot or Donate
URL:https://runwayforrecovery.org/event-calendar/rally-for-runway-form-fitness-2/
LOCATION:FORM\, 1001 Islington St Unit C-2\, Portsmouth\, NH\, 03801
CATEGORIES:Rally,Wellness Program
ATTACH;FMTTYPE=image/jpeg:https://runwayforrecovery.org/wp-content/uploads/2025/07/FORM-rotated-e1753212785252.jpg
GEO:43.0674804;-70.7754426
X-APPLE-STRUCTURED-LOCATION;VALUE=URI;X-ADDRESS=FORM 1001 Islington St Unit C-2 Portsmouth NH 03801;X-APPLE-RADIUS=500;X-TITLE=1001 Islington St Unit C-2:geo:-70.7754426,43.0674804
END:VEVENT
BEGIN:VEVENT
DTSTART;TZID=America/New_York:20251004T100000
DTEND;TZID=America/New_York:20251004T153000
DTSTAMP:20260424T160914
CREATED:20250721T151730Z
LAST-MODIFIED:20250722T192619Z
UID:10000173-1759572000-1759591800@runwayforrecovery.org
SUMMARY:Rally for Runway: Ride for Allie Rose
DESCRIPTION:Second Annual Rally for Runway: Ride for Allie Rose   \n\nOn the morning of October 4th\, in memory of Allie Rose (a Runway funded mom) and in honor of Breast Cancer Awareness Month\, Allie’s husband\, Dan Sweet\, and Runway will be hosting a Ride for a Cure out of the Wilmington Tewksbury Elks\, 777 South Sreet\, Tewksbury\, MA. \n\n“Please consider donating to Runway for Recovery\, a foundation that has financially supported my family and many others. My family wouldn’t be where we are today if it wasn’t for Runway. My hope is to raise money for families in need\, which is why we are donating everything to this organization. \nNo matter what you ride\, we would be honored if you joined. Even if you don’t ride\, come out to support a great charity. Registration opens at 10 a.m. and the Ride will start at 11:30 a.m. then end back at the Tewksbury Elks at 1:30 p.m. Please join us for a lunch back at the Elks after the Ride. \nRiding on the back of my motorcycle was one of Allie’s favorite activities to do. I know she would be so honored if you joined our ride and gave back to a charity that supported her family over the past few years.” — Dan Sweet\, Allie’s husband \n\n\nGrab a Spot or Donate
URL:https://runwayforrecovery.org/event-calendar/rally-for-runway-form-fitness/
LOCATION:Tewksbury Elks\, 777 South Street\, Tewksbury\, MA
CATEGORIES:Rally,Wellness Program
ATTACH;FMTTYPE=image/png:https://runwayforrecovery.org/wp-content/uploads/2025/07/Screenshot-2025-07-21-at-2.21.46 PM.png
GEO:42.6106478;-71.2342248
X-APPLE-STRUCTURED-LOCATION;VALUE=URI;X-ADDRESS=Tewksbury Elks 777 South Street Tewksbury MA;X-APPLE-RADIUS=500;X-TITLE=777 South Street:geo:-71.2342248,42.6106478
END:VEVENT
BEGIN:VEVENT
DTSTART;TZID=America/New_York:20251025T070000
DTEND;TZID=America/New_York:20251025T103000
DTSTAMP:20260424T160914
CREATED:20250721T151151Z
LAST-MODIFIED:20250730T175954Z
UID:10000172-1761375600-1761388200@runwayforrecovery.org
SUMMARY:Rally for Runway: Fit Revolution
DESCRIPTION:Coming together as a community is a way that all of us can make a difference when it comes to breast cancer. Runway and Fit Revolution are joining forces this October for the first time at their location in North Reading\, MA. \nJoin us for a morning of fitness and giving back to Runway. \n\n7:00 a.m. – Fit Walk and Strength Class\n7:30 a.m. – Bootcamp Class\n8:00 a.m. – Pilates Class\n\nGrab a Spot
URL:https://runwayforrecovery.org/event-calendar/rally-for-runway-fit-revolution/
LOCATION:Fit Revolution\, 55 Concord Street\, North Reading\, MA
CATEGORIES:Rally,Wellness Program
ATTACH;FMTTYPE=image/jpeg:https://runwayforrecovery.org/wp-content/uploads/2025/07/IMG_0081-1.jpeg
GEO:42.5604389;-71.1239575
X-APPLE-STRUCTURED-LOCATION;VALUE=URI;X-ADDRESS=Fit Revolution 55 Concord Street North Reading MA;X-APPLE-RADIUS=500;X-TITLE=55 Concord Street:geo:-71.1239575,42.5604389
END:VEVENT
BEGIN:VEVENT
DTSTART;VALUE=DATE:20260327
DTEND;VALUE=DATE:20260330
DTSTAMP:20260424T160914
CREATED:20251124T171204Z
LAST-MODIFIED:20251127T233045Z
UID:10000209-1774569600-1774828799@runwayforrecovery.org
SUMMARY:The Recovery Retreat
DESCRIPTION:The 5th Annual Model Recovery Retreat | March 27–29\, 2026The Model Recovery Retreat is a special annual gathering designed exclusively for anyone who has modeled in a Runway Show. This restorative weekend brings our community together in a peaceful\, private setting where Models can connect\, recharge\, and access meaningful tools for healing and joy. Whether you’re joining us for the first time or returning for another unforgettable year\, this retreat offers space to breathe\, reflect\, laugh\, and build lifelong bonds. \n\nRetreat At-A-Glance \n📍 Location: Alnoba Retreat Center\, Kensington\, NH📅 Dates: Friday\, March 27 – Sunday\, March 29💖 Cost: Completely free for all Models🌟 Priority: First-time attendees receive priority registration🧘 Includes: Lodging\, all meals\, snacks\, classes\, workshops\, and activities (except “add-on” spa treatments)🚗 Travel: Models are responsible for getting to/from Southern NH \n  \nWhat to ExpectThe retreat takes place on an expansive private wooded property in Southern New Hampshire\, offering a peaceful backdrop for rest and connection. Six cozy cabins sit about a 20-minute walk or a 10-minute drive from the main campus\, and all lodging is shared so that Models can build community and enjoy the weekend together. We’ll begin at 3:00 p.m. on Friday and wrap up at 3:00 p.m. on Sunday\, spending most of our time on the main campus for sessions\, meals\, and activities. This year\, we’ve intentionally woven in more downtime or those who want quiet moments—enjoying conversations in cabins\, taking walks on the trails\, or simply resting. \n\nEverything Included (at no cost!)🛌 Lodging🍽️ Meals🍫 Cabin Snacks🎉 Welcome Reception💪 Strength Class💃 Dance Class🧘 Yoga / Meditation Class🎨 Painting Class🕯 Candle-Making Class📿 Jewelry-Making Class🌼 MBC Guided Workshop🎁 Swag Bag \n\nOptional Add-OnsFor anyone who wants an extra touch of relaxation\, Models may purchase a massage or mini-facial during registration. These optional wellness sessions are offered by licensed professionals onsite and may be booked in advance. \n\nThank You to Our SponsorsThe 2026 Retreat is made possible thanks to the generosity of Alnoba Retreat Center and Fit4ACause. We’re deeply grateful for their partnership and commitment to the Runway community. \n\nParking & ArrivalThere is a large parking area at the main campus. When you arrive\, please check in at the main building to receive your cabin assignment and weekend schedule. \n\n🕊 Ready to Join Us?Whether this is your first retreat or your fifth\, we cannot wait to welcome you for a weekend of connection\, rest\, inspiration\, and healing. Spots are limited—and first-time attendees will be given priority—so we encourage you to register soon. \n\nRegister \n  \nRegistration begins on December 1st\, 2025 and is open to all Runway for Recovery Models. You may donate to this event to offset the costs for Runway and ensure that all models can attend this complimentary weekend. In addition\, if your company would like to sponsor this event\, please reach out to Olivia Boger at olivia@runwayforrecovery.org. \n 
URL:https://runwayforrecovery.org/event-calendar/the-recovery-retreat/
LOCATION:Alnoba Retreat Center\, 24 Cottage Rd\, Kingston\, NH\, 03833\, United States
CATEGORIES:Wellness Program
ATTACH;FMTTYPE=image/jpeg:https://runwayforrecovery.org/wp-content/uploads/2025/11/IMG_1460-scaled.jpg
GEO:42.9159828;-70.9356771
X-APPLE-STRUCTURED-LOCATION;VALUE=URI;X-ADDRESS=Alnoba Retreat Center 24 Cottage Rd Kingston NH 03833 United States;X-APPLE-RADIUS=500;X-TITLE=24 Cottage Rd:geo:-70.9356771,42.9159828
END:VEVENT
END:VCALENDAR