BEGIN:VCALENDAR
VERSION:2.0
PRODID:-//Runway for Recovery - ECPv6.15.16//NONSGML v1.0//EN
CALSCALE:GREGORIAN
METHOD:PUBLISH
X-WR-CALNAME:Runway for Recovery
X-ORIGINAL-URL:https://runwayforrecovery.org
X-WR-CALDESC:Events for Runway for Recovery
REFRESH-INTERVAL;VALUE=DURATION:PT1H
X-Robots-Tag:noindex
X-PUBLISHED-TTL:PT1H
BEGIN:VTIMEZONE
TZID:America/Los_Angeles
BEGIN:DAYLIGHT
TZOFFSETFROM:-0800
TZOFFSETTO:-0700
TZNAME:PDT
DTSTART:20250309T100000
END:DAYLIGHT
BEGIN:STANDARD
TZOFFSETFROM:-0700
TZOFFSETTO:-0800
TZNAME:PST
DTSTART:20251102T090000
END:STANDARD
BEGIN:DAYLIGHT
TZOFFSETFROM:-0800
TZOFFSETTO:-0700
TZNAME:PDT
DTSTART:20260308T100000
END:DAYLIGHT
BEGIN:STANDARD
TZOFFSETFROM:-0700
TZOFFSETTO:-0800
TZNAME:PST
DTSTART:20261101T090000
END:STANDARD
BEGIN:DAYLIGHT
TZOFFSETFROM:-0800
TZOFFSETTO:-0700
TZNAME:PDT
DTSTART:20270314T100000
END:DAYLIGHT
BEGIN:STANDARD
TZOFFSETFROM:-0700
TZOFFSETTO:-0800
TZNAME:PST
DTSTART:20271107T090000
END:STANDARD
END:VTIMEZONE
BEGIN:VEVENT
DTSTART;TZID=America/Los_Angeles:20260516T120000
DTEND;TZID=America/Los_Angeles:20260516T130000
DTSTAMP:20260421T113715
CREATED:20260316T004115Z
LAST-MODIFIED:20260325T195641Z
UID:10000221-1778932800-1778936400@runwayforrecovery.org
SUMMARY:Rally for Runway: Align Step + Strength
DESCRIPTION:Coming together as a community is one of the most powerful ways we can make a difference in the fight against breast cancer. Runway for Recovery and Align Step + Strength are proud to partner for the second time for a special community event on Saturday\, May 16 at noon. \nIn honor of Newburyport Runway Model Phyllis Smith\, we will gather to remember and celebrate the life of her sister\, Pamela Joy Kent\, who passed away from breast cancer. We are especially honored that Phyllis will once again host this event in her sister’s memory. \nJoin us for an inspirational and impactful workout led by Mikala and the Align community\, as we come together to move with purpose\, support families facing breast cancer\, and honor those we love. \n \nGrab a Spot
URL:https://runwayforrecovery.org/event-calendar/rally-for-runway-align-step-strength/
LOCATION:Align Step + Strength\, Storey Avenue\, Newburyport\, MA\, 01950\, United States
CATEGORIES:Rally,Wellness Program
ATTACH;FMTTYPE=image/jpeg:https://runwayforrecovery.org/wp-content/uploads/2024/08/Copy-of-align-18-copy-scaled.jpeg
GEO:42.8201934;-70.9042737
X-APPLE-STRUCTURED-LOCATION;VALUE=URI;X-ADDRESS=Align Step + Strength Storey Avenue Newburyport MA 01950 United States;X-APPLE-RADIUS=500;X-TITLE=Storey Avenue:geo:-70.9042737,42.8201934
END:VEVENT
END:VCALENDAR