BEGIN:VCALENDAR
VERSION:2.0
PRODID:-//Runway for Recovery - ECPv6.15.16//NONSGML v1.0//EN
CALSCALE:GREGORIAN
METHOD:PUBLISH
X-WR-CALNAME:Runway for Recovery
X-ORIGINAL-URL:https://runwayforrecovery.org
X-WR-CALDESC:Events for Runway for Recovery
REFRESH-INTERVAL;VALUE=DURATION:PT1H
X-Robots-Tag:noindex
X-PUBLISHED-TTL:PT1H
BEGIN:VTIMEZONE
TZID:America/Halifax
BEGIN:DAYLIGHT
TZOFFSETFROM:-0400
TZOFFSETTO:-0300
TZNAME:ADT
DTSTART:20220313T060000
END:DAYLIGHT
BEGIN:STANDARD
TZOFFSETFROM:-0300
TZOFFSETTO:-0400
TZNAME:AST
DTSTART:20221106T050000
END:STANDARD
BEGIN:DAYLIGHT
TZOFFSETFROM:-0400
TZOFFSETTO:-0300
TZNAME:ADT
DTSTART:20230312T060000
END:DAYLIGHT
BEGIN:STANDARD
TZOFFSETFROM:-0300
TZOFFSETTO:-0400
TZNAME:AST
DTSTART:20231105T050000
END:STANDARD
BEGIN:DAYLIGHT
TZOFFSETFROM:-0400
TZOFFSETTO:-0300
TZNAME:ADT
DTSTART:20240310T060000
END:DAYLIGHT
BEGIN:STANDARD
TZOFFSETFROM:-0300
TZOFFSETTO:-0400
TZNAME:AST
DTSTART:20241103T050000
END:STANDARD
BEGIN:DAYLIGHT
TZOFFSETFROM:-0400
TZOFFSETTO:-0300
TZNAME:ADT
DTSTART:20250309T060000
END:DAYLIGHT
BEGIN:STANDARD
TZOFFSETFROM:-0300
TZOFFSETTO:-0400
TZNAME:AST
DTSTART:20251102T050000
END:STANDARD
BEGIN:DAYLIGHT
TZOFFSETFROM:-0400
TZOFFSETTO:-0300
TZNAME:ADT
DTSTART:20260308T060000
END:DAYLIGHT
BEGIN:STANDARD
TZOFFSETFROM:-0300
TZOFFSETTO:-0400
TZNAME:AST
DTSTART:20261101T050000
END:STANDARD
BEGIN:DAYLIGHT
TZOFFSETFROM:-0400
TZOFFSETTO:-0300
TZNAME:ADT
DTSTART:20270314T060000
END:DAYLIGHT
BEGIN:STANDARD
TZOFFSETFROM:-0300
TZOFFSETTO:-0400
TZNAME:AST
DTSTART:20271107T050000
END:STANDARD
END:VTIMEZONE
BEGIN:VTIMEZONE
TZID:UTC
BEGIN:STANDARD
TZOFFSETFROM:+0000
TZOFFSETTO:+0000
TZNAME:UTC
DTSTART:20230101T000000
END:STANDARD
END:VTIMEZONE
BEGIN:VEVENT
DTSTART;TZID=America/Halifax:20260228T183000
DTEND;TZID=America/Halifax:20260228T220000
DTSTAMP:20260422T122639
CREATED:20250615T180210Z
LAST-MODIFIED:20260213T135047Z
UID:10000164-1772303400-1772316000@runwayforrecovery.org
SUMMARY:The Runway Show\, Southern California
DESCRIPTION:Our largest event of the year is the annual Runway Show that celebrates those who are fighting\, remembers those who have passed\, and inspires us to support those who have been impacted by breast cancer. This is not your typical fashion show—it is a night for all of us to redefine this disease\, for us to connect and support one another\, and most importantly\, to dance in honor of all those impacted by breast cancer. \nThe 4th annual Runway Show\, Southern California will be held on Saturday\, February 28\, 2026 at The Balboa Bay Resort in Newport Beach. \nTickets \nWe are thrilled to celebrate our 65 Southern California models and honored to feature Spotlight Model Kristen Dahlgren and MC Stephanie Czajkowski — both personally impacted by breast cancer — who will help bring powerful heart and meaning to the evening. \n \nWatch the highlights from our 2025 event here. \nBefore they ever take to the stage\, all of our Runway Show SoCal models are already making an impact. Each model is personally fundraising to help surround families facing breast cancer with love\, support\, and critical financial relief. If you’d like to support their efforts\, please visit their individual fundraising pages here. To learn more about the incredible humans who take our stage\, be sure to explore the Model Spotlights in the blog section of our website.
URL:https://runwayforrecovery.org/event-calendar/the-runway-show-southern-california-3/
LOCATION:Balboa Bay Resort\, West Coast Highway\, Newport Beach\, CA\, 92663\, United States
CATEGORIES:Fundraising,Marketing,Program
ATTACH;FMTTYPE=image/jpeg:https://runwayforrecovery.org/wp-content/uploads/2025/04/Runway-12-900x600-1.jpg
GEO:33.6152415;-117.91368
X-APPLE-STRUCTURED-LOCATION;VALUE=URI;X-ADDRESS=Balboa Bay Resort West Coast Highway Newport Beach CA 92663 United States;X-APPLE-RADIUS=500;X-TITLE=West Coast Highway:geo:-117.91368,33.6152415
END:VEVENT
BEGIN:VEVENT
DTSTART;TZID=America/Halifax:20251003T183000
DTEND;TZID=America/Halifax:20251003T223000
DTSTAMP:20260422T122639
CREATED:20250615T175616Z
LAST-MODIFIED:20250701T131126Z
UID:10000163-1759516200-1759530600@runwayforrecovery.org
SUMMARY:The Runway Show\, Boston
DESCRIPTION:Our largest event of the year is the annual Runway Show that celebrates those who are in treatment\, remembers those who have passed\, and inspires us to support those who have been impacted by breast cancer. This is not your typical fashion show—it is a night for all of us to redefine this disease\, for us to connect and support one another\, and most importantly\, to dance in honor of all those impacted by breast cancer. \nThe 19th annual Runway Show\, New England will be held on Friday\, October 3\, 2025 at The Westin Seaport Hotel in Boston. \nIf you are traveling from out of town\, and you would like the room block rate at The Westin Seaport\, please use this link to book your stay. And if you would like to sponsor our Runway Show\, please learn more here. \nWatch the highlights from our 2024 event here. If you would like to join our waiting list to be considered as a model for this event\, please create a model profile and complete your the registration form. \nTickets and Sponsorships
URL:https://runwayforrecovery.org/event-calendar/the-runway-show-boston/
LOCATION:Westin Seaport Hotel\, 425 Summer Street\, Boston\, MA\, 02210\, United States
CATEGORIES:Fundraising,Marketing,Program
ATTACH;FMTTYPE=image/jpeg:https://runwayforrecovery.org/wp-content/uploads/2025/04/runway-sponsorshop.jpg
GEO:42.346237462414;-71.04298737448
X-APPLE-STRUCTURED-LOCATION;VALUE=URI;X-ADDRESS=Westin Seaport Hotel 425 Summer Street Boston MA 02210 United States;X-APPLE-RADIUS=500;X-TITLE=425 Summer Street:geo:-71.04298737448,42.346237462414
END:VEVENT
BEGIN:VEVENT
DTSTART;VALUE=DATE:20250404
DTEND;VALUE=DATE:20250407
DTSTAMP:20260422T122639
CREATED:20240726T142755Z
LAST-MODIFIED:20241204T163156Z
UID:10000082-1743724800-1743983999@runwayforrecovery.org
SUMMARY:Model Recovery Retreat
DESCRIPTION:The Recovery Retreat is our annual event\, open to anyone who has been a model in a Runway Show. At the retreat\, we offer wellness programs like yoga and meditation as well as opportunities for self-care. Held at the beautiful Alnoba retreat center in Kensington\, New Hampshire\, models can enjoy the 600-acre landscape with 10 miles of trails\, wildlife habitats\, sculptures and unique gathering places. We hope that models will leave inspired and refreshed and with a few new connections made. \nRegistration begins on January 15\, 2025 and is open to all Runway for Recovery Models. You may donate to this event and allow us to offer financial assistance to models who would like to attend. In addition\, if your company would like to sponsor this event\, please reach out to Olivia Boger at olivia@runwayforrecovery.org. \nDonate \nThank you to Fit4ACause for sponsoring the Retreat and allowing the cost of the event per model to be reduced for everyone who attends.
URL:https://runwayforrecovery.org/event-calendar/model-recovery-retreat-2/
LOCATION:Alnoba Retreat Center\, 24 Cottage Rd\, Kingston\, NH\, 03833\, United States
CATEGORIES:Program,Wellness Program
ATTACH;FMTTYPE=image/jpeg:https://runwayforrecovery.org/wp-content/uploads/2024/06/IMG_0061r4r-scaled.jpg
GEO:42.9159828;-70.9356771
X-APPLE-STRUCTURED-LOCATION;VALUE=URI;X-ADDRESS=Alnoba Retreat Center 24 Cottage Rd Kingston NH 03833 United States;X-APPLE-RADIUS=500;X-TITLE=24 Cottage Rd:geo:-70.9356771,42.9159828
END:VEVENT
BEGIN:VEVENT
DTSTART;TZID=America/Halifax:20250227T183000
DTEND;TZID=America/Halifax:20250227T183000
DTSTAMP:20260422T122639
CREATED:20240708T225117Z
LAST-MODIFIED:20241220T222326Z
UID:10000077-1740681000-1740681000@runwayforrecovery.org
SUMMARY:The Runway Show\, New York City
DESCRIPTION:Our largest event of the year is the annual Runway Show that celebrates those who are fighting\, remembers those who have passed\, and inspires us to support those who have been impacted by breast cancer. This is not your typical fashion show—it is a night for all of us to redefine this disease\, for us to connect and support one another\, and most importantly\, to dance in honor of all those impacted by breast cancer. \nTickets or Donate \nThe inaugural Runway Show\, New York City will be held on Thursday\, February 27\, 2025 at The Lighthouse on Chelsea Piers\, Manhattan\, NY. If you are traveling from out-of-town\, we have a room block at INNSide New York NoMad. \n \nIf you would like to support a Model’s fundraising efforts\, search for their personal pages here.
URL:https://runwayforrecovery.org/event-calendar/the-runway-show-new-york/
LOCATION:The Lighthouse\, The Lighthouse Pier 61\, Chelsea Piers\, NY\, 10011\, United States
CATEGORIES:Fundraising,Marketing,Program
ATTACH;FMTTYPE=image/jpeg:https://runwayforrecovery.org/wp-content/uploads/2024/07/D5E3C71D-BA00-4CA0-9620-51FE02298BF6.jpeg
GEO:40.747355;-74.0083691
X-APPLE-STRUCTURED-LOCATION;VALUE=URI;X-ADDRESS=The Lighthouse The Lighthouse Pier 61 Chelsea Piers NY 10011 United States;X-APPLE-RADIUS=500;X-TITLE=The Lighthouse Pier 61:geo:-74.0083691,40.747355
END:VEVENT
BEGIN:VEVENT
DTSTART;TZID=America/Halifax:20250125T180000
DTEND;TZID=America/Halifax:20250125T180000
DTSTAMP:20260422T122639
CREATED:20240708T225009Z
LAST-MODIFIED:20241125T180753Z
UID:10000079-1737828000-1737828000@runwayforrecovery.org
SUMMARY:The Runway Show\, Southern California
DESCRIPTION:Our largest event of the year is the annual Runway Show that celebrates those who are fighting\, remembers those who have passed\, and inspires us to support those who have been impacted by breast cancer. This is not your typical fashion show—it is a night for all of us to redefine this disease\, for us to connect and support one another\, and most importantly\, to dance in honor of all those impacted by breast cancer. \nThe 3rd annual Runway Show\, Southern California will be held on  Saturday\, January 25\, 2025 at The Balboa Bay Resort in Newport Beach. If you are traveling from out-of-town\, we have a room block at the Balboa Bay Resort. \nIf your business would like to sponsor The Runway Show\, we would love your support. Learn more here.  \nGrab your ticket to the event and/or search for one of your model friends and support their fundraising efforts. \nRegister or Donate
URL:https://runwayforrecovery.org/event-calendar/the-runway-show-southern-california-2/
LOCATION:Balboa Bay Resort\, West Coast Highway\, Newport Beach\, CA\, 92663\, United States
CATEGORIES:Fundraising,Marketing,Program
ATTACH;FMTTYPE=image/jpeg:https://runwayforrecovery.org/wp-content/uploads/2024/06/R4R-25-scaled.jpg
GEO:33.6152415;-117.91368
X-APPLE-STRUCTURED-LOCATION;VALUE=URI;X-ADDRESS=Balboa Bay Resort West Coast Highway Newport Beach CA 92663 United States;X-APPLE-RADIUS=500;X-TITLE=West Coast Highway:geo:-117.91368,33.6152415
END:VEVENT
BEGIN:VEVENT
DTSTART;TZID=America/Halifax:20241025T183000
DTEND;TZID=America/Halifax:20241025T183000
DTSTAMP:20260422T122639
CREATED:20240708T224903Z
LAST-MODIFIED:20240929T151826Z
UID:10000076-1729881000-1729881000@runwayforrecovery.org
SUMMARY:The Runway Show\, New England
DESCRIPTION:Our largest event of the year is the annual Runway Show that celebrates those who are fighting\, remembers those who have passed\, and inspires us to support those who have been impacted by breast cancer. This is not your typical fashion show—it is a night for all of us to redefine this disease\, for us to connect and support one another\, and most importantly\, to dance in honor of all those impacted by breast cancer. \nThe 18th annual Runway Show\, New England will be held on Friday\, October 25\, 2024 at The Westin Seaport Hotel in Boston. \nEvening Schedule\n6:00 — VIP Guest Reception begins\n6:30 — Cocktail hour begins for general admissions & Cande’s Circle guests\n7:30 — Doors Open for fashion show\n8:45 — Show concludes and post-dance party begins\n10:30 — Event concludes\n \nSuggested Attire — fun and fabulous \nRefreshment Information\nDuring cocktail hour\, there are heavy small plates and passed hors d’oeuvres along with complimentary 90+ wine and a speciality tequila drink. Guests may also purchase different cocktails at the cash bar. During the post-dance party\, dessert will be served. \nRegister or Donate
URL:https://runwayforrecovery.org/event-calendar/the-runway-show-new-england-2/
LOCATION:Westin Seaport Hotel\, 425 Summer Street\, Boston\, MA\, 02210\, United States
CATEGORIES:Fundraising,Marketing,Program
ATTACH;FMTTYPE=image/jpeg:https://runwayforrecovery.org/wp-content/uploads/2024/06/2023_Runway-3919.jpg
GEO:42.346237462414;-71.04298737448
X-APPLE-STRUCTURED-LOCATION;VALUE=URI;X-ADDRESS=Westin Seaport Hotel 425 Summer Street Boston MA 02210 United States;X-APPLE-RADIUS=500;X-TITLE=425 Summer Street:geo:-71.04298737448,42.346237462414
END:VEVENT
BEGIN:VEVENT
DTSTART;VALUE=DATE:20240405
DTEND;VALUE=DATE:20240408
DTSTAMP:20260422T122639
CREATED:20230830T145131Z
LAST-MODIFIED:20240325T155550Z
UID:10000038-1712275200-1712534399@runwayforrecovery.org
SUMMARY:Model Recovery Retreat
DESCRIPTION:The Recovery Retreat is our annual event\, open to anyone who has been a model in a Runway Show. At the retreat\, we offer wellness programs like yoga and meditation as well as opportunities for self-care. Held at the beautiful Alnoba retreat center in Kensington\, New Hampshire\, models can enjoy the 600-acre landscape with 10 miles of trails\, wildlife habitats\, sculptures and unique gathering places. We hope that models will leave inspired and refreshed and with a few new connections made. \nThank you so much to our amazing in-kind sponsors: \n\nFaceFood\nFit 4 A Cause\nLululemon\nCheryl Durand\nPersephone DaCosta\nG.S. Chaisson Designs\nThe Set Studio\n\nRegister or Donate \n \n \n  \n 
URL:https://runwayforrecovery.org/event-calendar/model-recovery-retreat/
LOCATION:Alnoba Retreat Center\, 24 Cottage Rd\, Kingston\, NH\, 03833\, United States
CATEGORIES:Program,Wellness Program
ATTACH;FMTTYPE=image/jpeg:https://runwayforrecovery.org/wp-content/uploads/2023/10/Retreat_Outdoor_1600x900-web.jpg
GEO:42.9159828;-70.9356771
X-APPLE-STRUCTURED-LOCATION;VALUE=URI;X-ADDRESS=Alnoba Retreat Center 24 Cottage Rd Kingston NH 03833 United States;X-APPLE-RADIUS=500;X-TITLE=24 Cottage Rd:geo:-70.9356771,42.9159828
END:VEVENT
BEGIN:VEVENT
DTSTART;TZID=America/Halifax:20231026T180000
DTEND;TZID=America/Halifax:20231026T180000
DTSTAMP:20260422T122639
CREATED:20230815T182101Z
LAST-MODIFIED:20230830T134730Z
UID:10000001-1698343200-1698343200@runwayforrecovery.org
SUMMARY:The Runway Show\, New England
DESCRIPTION:Our largest event of the year is the annual Runway Show that celebrates those who are fighting\, remembers those who have passed\, and inspires us to support those who have been impacted by breast cancer. This is not your typical fashion show—it is a night for all of us to redefine this disease\, for us to connect and support one another\, and most importantly\, to dance in honor of all those impacted by breast cancer. Test \nThe 17th annual Runway Show\, New England will be held on Thursday\, October 26\, 2023 at The Westin Seaport Hotel in Boston. Tickets are on sale now. \nGet Tickets
URL:https://runwayforrecovery.org/event-calendar/the-runway-show-new-england/
LOCATION:Westin Seaport Hotel\, 425 Summer Street\, Boston\, MA\, 02210\, United States
CATEGORIES:Fundraising,Marketing,Program
ATTACH;FMTTYPE=image/jpeg:https://runwayforrecovery.org/wp-content/uploads/2023/08/new-england-show-1600x900-1.jpg
GEO:42.346237462414;-71.04298737448
X-APPLE-STRUCTURED-LOCATION;VALUE=URI;X-ADDRESS=Westin Seaport Hotel 425 Summer Street Boston MA 02210 United States;X-APPLE-RADIUS=500;X-TITLE=425 Summer Street:geo:-71.04298737448,42.346237462414
END:VEVENT
END:VCALENDAR