BEGIN:VCALENDAR
VERSION:2.0
PRODID:-//Runway for Recovery - ECPv6.15.16//NONSGML v1.0//EN
CALSCALE:GREGORIAN
METHOD:PUBLISH
X-ORIGINAL-URL:https://runwayforrecovery.org
X-WR-CALDESC:Events for Runway for Recovery
REFRESH-INTERVAL;VALUE=DURATION:PT1H
X-Robots-Tag:noindex
X-PUBLISHED-TTL:PT1H
BEGIN:VTIMEZONE
TZID:America/New_York
BEGIN:DAYLIGHT
TZOFFSETFROM:-0500
TZOFFSETTO:-0400
TZNAME:EDT
DTSTART:20240310T070000
END:DAYLIGHT
BEGIN:STANDARD
TZOFFSETFROM:-0400
TZOFFSETTO:-0500
TZNAME:EST
DTSTART:20241103T060000
END:STANDARD
BEGIN:DAYLIGHT
TZOFFSETFROM:-0500
TZOFFSETTO:-0400
TZNAME:EDT
DTSTART:20250309T070000
END:DAYLIGHT
BEGIN:STANDARD
TZOFFSETFROM:-0400
TZOFFSETTO:-0500
TZNAME:EST
DTSTART:20251102T060000
END:STANDARD
BEGIN:DAYLIGHT
TZOFFSETFROM:-0500
TZOFFSETTO:-0400
TZNAME:EDT
DTSTART:20260308T070000
END:DAYLIGHT
BEGIN:STANDARD
TZOFFSETFROM:-0400
TZOFFSETTO:-0500
TZNAME:EST
DTSTART:20261101T060000
END:STANDARD
END:VTIMEZONE
BEGIN:VEVENT
DTSTART;TZID=America/New_York:20250515T183000
DTEND;TZID=America/New_York:20250515T203000
DTSTAMP:20260423T230947
CREATED:20250312T173117Z
LAST-MODIFIED:20250418T212922Z
UID:10000074-1747333800-1747341000@runwayforrecovery.org
SUMMARY:Love for Runway in Newburyport
DESCRIPTION:TICKETS or DONATE \nLove for Runway is a night to love on those impacted by breast cancer and support the local businesses that we all adore. Come out for a night to sip\, shop\, and support Runway for Recovery. \nWe are honored to have Julie Clemente\, Lori Levans\, Ashley Connors and Renee Plodzik talk about the impact that breast cancer has had on their lives. \nThank you so much to our presenting sponsors: \nBentley’s/REMAX\, Alissa Christie Luxury Real Estate\, Newburyport Development\, and 90+ Cellars. \n     \n \nThis year’s participating boutiques: \n\nCharleston & Coco \nSalt & Grove\nLively Kids\nThe Shop\, by Wheat\nJ. McLaughlin\nSustain\nShine\nFrench Twist Salon\nThe Wild Clover\nLeallo\nThe Shop by Wheat\n\nLast year’s participating restaurants: \n\n\n\nPaddle Inn\nTuscan Kitchen and Sea Grille\nBrine\nBar25\nThe Poynt\nPortu Vida\nThe Angry Donut\nMichael’s Harborside\n\n\n\n 
URL:https://runwayforrecovery.org/event-calendar/love-for-runway-in-newburyport/
LOCATION:Inn Street Newburyport\, Newburyport\, MA
CATEGORIES:Fundraising,Love for Runway
ATTACH;FMTTYPE=image/jpeg:https://runwayforrecovery.org/wp-content/uploads/2023/10/LL_NBPT_1600x900-web.jpg
END:VEVENT
END:VCALENDAR