BEGIN:VCALENDAR
VERSION:2.0
PRODID:-//Runway for Recovery - ECPv6.15.16//NONSGML v1.0//EN
CALSCALE:GREGORIAN
METHOD:PUBLISH
X-ORIGINAL-URL:https://runwayforrecovery.org
X-WR-CALDESC:Events for Runway for Recovery
REFRESH-INTERVAL;VALUE=DURATION:PT1H
X-Robots-Tag:noindex
X-PUBLISHED-TTL:PT1H
BEGIN:VTIMEZONE
TZID:UTC
BEGIN:STANDARD
TZOFFSETFROM:+0000
TZOFFSETTO:+0000
TZNAME:UTC
DTSTART:20250101T000000
END:STANDARD
END:VTIMEZONE
BEGIN:VEVENT
DTSTART;VALUE=DATE:20260227
DTEND;VALUE=DATE:20260228
DTSTAMP:20260419T143044
CREATED:20260130T144824Z
LAST-MODIFIED:20260211T211910Z
UID:10000219-1772150400-1772236799@runwayforrecovery.org
SUMMARY:Play for Runway: Dana Hall 5k
DESCRIPTION:Dana Hall School is hosting a Play for Runway 5K on February 27th\, bringing students\, faculty\, and the school community together in support of families navigating life after a breast cancer diagnosis. \nThis meaningful event combines movement\, education\, and impact\, giving participants the opportunity to learn more about Runway for Recovery’s mission while coming together to make a difference through fundraising and awareness. \nWe are deeply grateful to Dana Hall for their leadership\, compassion\, and commitment to supporting families in our community.
URL:https://runwayforrecovery.org/event-calendar/play-for-runway-dana-hall-5k-2/
LOCATION:Dana Hall School\, 45 Dana Road\, Wellesley\, MA\, United States
CATEGORIES:Play for Runway
ATTACH;FMTTYPE=image/webp:https://runwayforrecovery.org/wp-content/uploads/2026/01/DH_Homecoming_Richins_102524_161800_0175.webp
GEO:42.2913288;-71.2875601
X-APPLE-STRUCTURED-LOCATION;VALUE=URI;X-ADDRESS=Dana Hall School 45 Dana Road Wellesley MA United States;X-APPLE-RADIUS=500;X-TITLE=45 Dana Road:geo:-71.2875601,42.2913288
END:VEVENT
END:VCALENDAR