BEGIN:VCALENDAR
VERSION:2.0
PRODID:-//Runway for Recovery - ECPv6.15.16//NONSGML v1.0//EN
CALSCALE:GREGORIAN
METHOD:PUBLISH
X-ORIGINAL-URL:https://runwayforrecovery.org
X-WR-CALDESC:Events for Runway for Recovery
REFRESH-INTERVAL;VALUE=DURATION:PT1H
X-Robots-Tag:noindex
X-PUBLISHED-TTL:PT1H
BEGIN:VTIMEZONE
TZID:UTC
BEGIN:STANDARD
TZOFFSETFROM:+0000
TZOFFSETTO:+0000
TZNAME:UTC
DTSTART:20240101T000000
END:STANDARD
END:VTIMEZONE
BEGIN:VEVENT
DTSTART;TZID=UTC:20251014T080000
DTEND;TZID=UTC:20251015T220000
DTSTAMP:20260424T114504
CREATED:20250911T171233Z
LAST-MODIFIED:20250923T152802Z
UID:10000187-1760428800-1760565600@runwayforrecovery.org
SUMMARY:Love for Runway: Anne Fontaine NYC
DESCRIPTION:Love for Runway is an event where we sip\, shop\, and support Runway for Recovery. Local businesses come together and choose to LOVE on RUNWAY and give a % of sales back to our organization\, and we are so grateful. \nPlease join us on October 14th from 10:00am-6:00pm and October 15th from 10:00am-8:00pm at Anne Fontaine in New York\, NY for a fall Love for Runway! \nNo tickets are needed to participate\, please simply come sip\, shop\, and support! \n  \n \n 
URL:https://runwayforrecovery.org/event-calendar/love-for-runway-ramy-brook/
LOCATION:Anne Fontaine Madison Ave\, 723 Madison Ave\, New York\, NY\, 10065
CATEGORIES:Love for Runway
ATTACH;FMTTYPE=image/webp:https://runwayforrecovery.org/wp-content/uploads/2025/09/2023-10-30.webp
GEO:40.7664425;-73.9691578
X-APPLE-STRUCTURED-LOCATION;VALUE=URI;X-ADDRESS=Anne Fontaine Madison Ave 723 Madison Ave New York NY 10065;X-APPLE-RADIUS=500;X-TITLE=723 Madison Ave:geo:-73.9691578,40.7664425
END:VEVENT
BEGIN:VEVENT
DTSTART;TZID=UTC:20251014T100000
DTEND;TZID=UTC:20251014T180000
DTSTAMP:20260424T114504
CREATED:20250923T153120Z
LAST-MODIFIED:20250923T153120Z
UID:10000192-1760436000-1760464800@runwayforrecovery.org
SUMMARY:Love for Runway: Ramy Brook NYC
DESCRIPTION:Love for Runway is an event where we sip\, shop\, and support Runway for Recovery. Local businesses come together and choose to LOVE on RUNWAY and give a % of sales back to our organization\, and we are so grateful. \nPlease join us on October 14th from 10:00am – 6:00 p.m. at Ramy Brook in NYC for a Fall Love for Runway! \nNo tickets are needed to participate\, please simply come sip\, shop and enjoy! \n 
URL:https://runwayforrecovery.org/event-calendar/love-for-runway-ramy-brook-nyc/
LOCATION:Ramy Brook Madison Ave
CATEGORIES:Love for Runway
ATTACH;FMTTYPE=image/webp:https://runwayforrecovery.org/wp-content/uploads/2025/09/ramydone-17.webp
END:VEVENT
BEGIN:VEVENT
DTSTART;TZID=UTC:20251014T103000
DTEND;TZID=UTC:20251014T113000
DTSTAMP:20260424T114504
CREATED:20250911T170652Z
LAST-MODIFIED:20251001T170543Z
UID:10000186-1760437800-1760441400@runwayforrecovery.org
SUMMARY:Rally for Runway: SoulCycle E83
DESCRIPTION:Coming together as a community is a way that all of us can make a difference when it comes to breast cancer. Runway and SoulCycle are joining forces this October at their location on 1470 3rd Ave\, New York\, NY 10028 \nStart your day with fitness and giving back to Runway\, then continue the fun at Ramy Brook and Anne Fontaine\, where shopping turns into impact with a percentage of proceeds benefiting Runway. \nGRAB A SPOT
URL:https://runwayforrecovery.org/event-calendar/rally-for-runway-soulcycle-e83/
LOCATION:SoulCycle E83\, 1470 3rd Ave\, New York\, NY\, 10028
CATEGORIES:Rally for Runway
ATTACH;FMTTYPE=image/jpeg:https://runwayforrecovery.org/wp-content/uploads/2025/09/DSC_0425-1-scaled.jpeg
GEO:40.777129;-73.955624
X-APPLE-STRUCTURED-LOCATION;VALUE=URI;X-ADDRESS=SoulCycle E83 1470 3rd Ave New York NY 10028;X-APPLE-RADIUS=500;X-TITLE=1470 3rd Ave:geo:-73.955624,40.777129
END:VEVENT
END:VCALENDAR