BEGIN:VCALENDAR
VERSION:2.0
PRODID:-//Runway for Recovery - ECPv6.15.16//NONSGML v1.0//EN
CALSCALE:GREGORIAN
METHOD:PUBLISH
X-ORIGINAL-URL:https://runwayforrecovery.org
X-WR-CALDESC:Events for Runway for Recovery
REFRESH-INTERVAL;VALUE=DURATION:PT1H
X-Robots-Tag:noindex
X-PUBLISHED-TTL:PT1H
BEGIN:VTIMEZONE
TZID:UTC
BEGIN:STANDARD
TZOFFSETFROM:+0000
TZOFFSETTO:+0000
TZNAME:UTC
DTSTART:20240101T000000
END:STANDARD
END:VTIMEZONE
BEGIN:VEVENT
DTSTART;TZID=UTC:20251009T160000
DTEND;TZID=UTC:20251009T180000
DTSTAMP:20260424T101048
CREATED:20250929T163024Z
LAST-MODIFIED:20250930T170536Z
UID:10000195-1760025600-1760032800@runwayforrecovery.org
SUMMARY:Play for Runway: Trevor Day School
DESCRIPTION:The Trevor Day School Dragons will be hosting multiple Play for Runway games throughout the month of October! See below for dates: \n10/3\nGirls JV Volleyball – 4pm\nGirls Varsity Volleyball – 5:30pm\n\n\n10/7\nGirls Varsity soccer – 4pm\n\n\n\n10/9\nVarsity Cross Country – 4:15pm\n\n\n\n10/14\nBoys Varsity Soccer – 4pm\n\n\n\n10/16\nGirls Middle School Volleyball (Dragon Team)  – 3:30pm\nGirls Middle School Volleyball (Fire Team)  – 4:30pm\n\n\n\n\n\nDonate Here
URL:https://runwayforrecovery.org/event-calendar/play-for-runway-trevor-day-school/2025-10-09/
LOCATION:MA
CATEGORIES:Play for Runway
ATTACH;FMTTYPE=image/jpeg:https://runwayforrecovery.org/wp-content/uploads/2025/08/Dana-hall-events-page.jpg
END:VEVENT
END:VCALENDAR