BEGIN:VCALENDAR
VERSION:2.0
PRODID:-//Runway for Recovery - ECPv6.15.16//NONSGML v1.0//EN
CALSCALE:GREGORIAN
METHOD:PUBLISH
X-ORIGINAL-URL:https://runwayforrecovery.org
X-WR-CALDESC:Events for Runway for Recovery
REFRESH-INTERVAL;VALUE=DURATION:PT1H
X-Robots-Tag:noindex
X-PUBLISHED-TTL:PT1H
BEGIN:VTIMEZONE
TZID:UTC
BEGIN:STANDARD
TZOFFSETFROM:+0000
TZOFFSETTO:+0000
TZNAME:UTC
DTSTART:20240101T000000
END:STANDARD
END:VTIMEZONE
BEGIN:VTIMEZONE
TZID:America/Halifax
BEGIN:DAYLIGHT
TZOFFSETFROM:-0400
TZOFFSETTO:-0300
TZNAME:ADT
DTSTART:20240310T060000
END:DAYLIGHT
BEGIN:STANDARD
TZOFFSETFROM:-0300
TZOFFSETTO:-0400
TZNAME:AST
DTSTART:20241103T050000
END:STANDARD
BEGIN:DAYLIGHT
TZOFFSETFROM:-0400
TZOFFSETTO:-0300
TZNAME:ADT
DTSTART:20250309T060000
END:DAYLIGHT
BEGIN:STANDARD
TZOFFSETFROM:-0300
TZOFFSETTO:-0400
TZNAME:AST
DTSTART:20251102T050000
END:STANDARD
BEGIN:DAYLIGHT
TZOFFSETFROM:-0400
TZOFFSETTO:-0300
TZNAME:ADT
DTSTART:20260308T060000
END:DAYLIGHT
BEGIN:STANDARD
TZOFFSETFROM:-0300
TZOFFSETTO:-0400
TZNAME:AST
DTSTART:20261101T050000
END:STANDARD
END:VTIMEZONE
BEGIN:VEVENT
DTSTART;VALUE=DATE:20251003
DTEND;VALUE=DATE:20251004
DTSTAMP:20260422T105150
CREATED:20250828T174308Z
LAST-MODIFIED:20250828T181029Z
UID:10000178-1759449600-1759535999@runwayforrecovery.org
SUMMARY:Play for Runway: Noble and Greenough School
DESCRIPTION:Noble and Greenough teams will come together to play in honor of those impacted by breast cancer. \n  \n \nDonate or Join a Team
URL:https://runwayforrecovery.org/event-calendar/play-for-runway-noble-and-greenough-school/
LOCATION:Nobles and Greenough School\, 10 Campus Drive\, Dedham\, MA\, 02026
ATTACH;FMTTYPE=image/jpeg:https://runwayforrecovery.org/wp-content/uploads/2025/08/NHS-field-hockey-events-page.jpg
GEO:42.2619052;-71.1850473
X-APPLE-STRUCTURED-LOCATION;VALUE=URI;X-ADDRESS=Nobles and Greenough School 10 Campus Drive Dedham MA 02026;X-APPLE-RADIUS=500;X-TITLE=10 Campus Drive:geo:-71.1850473,42.2619052
END:VEVENT
BEGIN:VEVENT
DTSTART;TZID=UTC:20251003T140000
DTEND;TZID=UTC:20251003T180000
DTSTAMP:20260422T105150
CREATED:20250908T141328Z
LAST-MODIFIED:20250910T170120Z
UID:10000181-1759500000-1759514400@runwayforrecovery.org
SUMMARY:Love for Runway: Boston
DESCRIPTION:Love for Runway is an event where we sip\, shop\, and support Runway for Recovery. Local businesses come together and choose to LOVE on RUNWAY and give a % of sales back to our organization\, and we are so grateful. \nPlease join us on October 3rd from 2-6pm on Charles St. in Boston for a fall Love for Runway! We are so grateful to J.McLaughlin for hosting this event! \nNo tickets are needed to participate\, please simply come\, shop\, and dine at the participating businesses: \n  \n        \n  \n*Would you like to be a participating business? Email us to join our Love for Runway Boston event.
URL:https://runwayforrecovery.org/event-calendar/love-for-runway-boston/
LOCATION:J.McLaughlin\, 34 Charles St\, Boston\, MA\, 02114
CATEGORIES:Love for Runway
ATTACH;FMTTYPE=image/png:https://runwayforrecovery.org/wp-content/uploads/2025/09/Untitled-design-3.png
END:VEVENT
BEGIN:VEVENT
DTSTART;TZID=UTC:20251003T160000
DTEND;TZID=UTC:20251003T190000
DTSTAMP:20260422T105150
CREATED:20250929T163024Z
LAST-MODIFIED:20250930T170536Z
UID:10000193-1759507200-1759518000@runwayforrecovery.org
SUMMARY:Play for Runway: Trevor Day School
DESCRIPTION:The Trevor Day School Dragons will be hosting multiple Play for Runway games throughout the month of October! See below for dates: \n10/3\nGirls JV Volleyball – 4pm\nGirls Varsity Volleyball – 5:30pm\n\n\n10/7\nGirls Varsity soccer – 4pm\n\n\n\n10/9\nVarsity Cross Country – 4:15pm\n\n\n\n10/14\nBoys Varsity Soccer – 4pm\n\n\n\n10/16\nGirls Middle School Volleyball (Dragon Team)  – 3:30pm\nGirls Middle School Volleyball (Fire Team)  – 4:30pm\n\n\n\n\n\nDonate Here
URL:https://runwayforrecovery.org/event-calendar/play-for-runway-trevor-day-school/2025-10-03/
LOCATION:MA
CATEGORIES:Play for Runway
ATTACH;FMTTYPE=image/jpeg:https://runwayforrecovery.org/wp-content/uploads/2025/08/Dana-hall-events-page.jpg
END:VEVENT
BEGIN:VEVENT
DTSTART;TZID=America/Halifax:20251003T183000
DTEND;TZID=America/Halifax:20251003T223000
DTSTAMP:20260422T105150
CREATED:20250615T175616Z
LAST-MODIFIED:20250701T131126Z
UID:10000163-1759516200-1759530600@runwayforrecovery.org
SUMMARY:The Runway Show\, Boston
DESCRIPTION:Our largest event of the year is the annual Runway Show that celebrates those who are in treatment\, remembers those who have passed\, and inspires us to support those who have been impacted by breast cancer. This is not your typical fashion show—it is a night for all of us to redefine this disease\, for us to connect and support one another\, and most importantly\, to dance in honor of all those impacted by breast cancer. \nThe 19th annual Runway Show\, New England will be held on Friday\, October 3\, 2025 at The Westin Seaport Hotel in Boston. \nIf you are traveling from out of town\, and you would like the room block rate at The Westin Seaport\, please use this link to book your stay. And if you would like to sponsor our Runway Show\, please learn more here. \nWatch the highlights from our 2024 event here. If you would like to join our waiting list to be considered as a model for this event\, please create a model profile and complete your the registration form. \nTickets and Sponsorships
URL:https://runwayforrecovery.org/event-calendar/the-runway-show-boston/
LOCATION:Westin Seaport Hotel\, 425 Summer Street\, Boston\, MA\, 02210\, United States
CATEGORIES:Fundraising,Marketing,Program
ATTACH;FMTTYPE=image/jpeg:https://runwayforrecovery.org/wp-content/uploads/2025/04/runway-sponsorshop.jpg
GEO:42.346237462414;-71.04298737448
X-APPLE-STRUCTURED-LOCATION;VALUE=URI;X-ADDRESS=Westin Seaport Hotel 425 Summer Street Boston MA 02210 United States;X-APPLE-RADIUS=500;X-TITLE=425 Summer Street:geo:-71.04298737448,42.346237462414
END:VEVENT
END:VCALENDAR