BEGIN:VCALENDAR
VERSION:2.0
PRODID:-//Runway for Recovery - ECPv6.15.16//NONSGML v1.0//EN
CALSCALE:GREGORIAN
METHOD:PUBLISH
X-ORIGINAL-URL:https://runwayforrecovery.org
X-WR-CALDESC:Events for Runway for Recovery
REFRESH-INTERVAL;VALUE=DURATION:PT1H
X-Robots-Tag:noindex
X-PUBLISHED-TTL:PT1H
BEGIN:VTIMEZONE
TZID:UTC
BEGIN:STANDARD
TZOFFSETFROM:+0000
TZOFFSETTO:+0000
TZNAME:UTC
DTSTART:20240101T000000
END:STANDARD
END:VTIMEZONE
BEGIN:VEVENT
DTSTART;VALUE=DATE:20250511
DTEND;VALUE=DATE:20250512
DTSTAMP:20260423T145406
CREATED:20250410T201509Z
LAST-MODIFIED:20250410T203254Z
UID:10000151-1746921600-1747007999@runwayforrecovery.org
SUMMARY:Play for Runway: Brookline Girls' Youth Lacrosse
DESCRIPTION:The Brookline Girls’ Youth Lacrosse League will be coming together to Play for Runway this Mother’s Day. This spring\, the players are organizing various fundraisers in order to support their first Play for Runway games. \n \nDonate or Join a Team
URL:https://runwayforrecovery.org/event-calendar/play-for-runway-brookline-girls-youth-lacrosse/
LOCATION:Brookline Youth Lacrosse\, Brookline\, MA
CATEGORIES:Play for Runway
ATTACH;FMTTYPE=image/jpeg:https://runwayforrecovery.org/wp-content/uploads/2025/04/IMG_1001r4r-scaled.jpg
GEO:42.3317642;-71.1211635
END:VEVENT
END:VCALENDAR