BEGIN:VCALENDAR
VERSION:2.0
PRODID:-//Runway for Recovery - ECPv6.15.16//NONSGML v1.0//EN
CALSCALE:GREGORIAN
METHOD:PUBLISH
X-ORIGINAL-URL:https://runwayforrecovery.org
X-WR-CALDESC:Events for Runway for Recovery
REFRESH-INTERVAL;VALUE=DURATION:PT1H
X-Robots-Tag:noindex
X-PUBLISHED-TTL:PT1H
BEGIN:VTIMEZONE
TZID:UTC
BEGIN:STANDARD
TZOFFSETFROM:+0000
TZOFFSETTO:+0000
TZNAME:UTC
DTSTART:20230101T000000
END:STANDARD
END:VTIMEZONE
BEGIN:VEVENT
DTSTART;VALUE=DATE:20240925
DTEND;VALUE=DATE:20240926
DTSTAMP:20260421T123108
CREATED:20240921T214013Z
LAST-MODIFIED:20240921T215928Z
UID:10000124-1727222400-1727308799@runwayforrecovery.org
SUMMARY:Playing for Pink: Riverdale Country Day\, Girls' Soccer
DESCRIPTION:Riverdale Country Day Girls’ Soccer team will come together to play in honor of those impacted by breast cancer.\n\nDonate or Join a Team
URL:https://runwayforrecovery.org/event-calendar/playing-for-pink-noble-and-greenough-2/
LOCATION:MA
CATEGORIES:Play for Runway
ATTACH;FMTTYPE=image/jpeg:https://runwayforrecovery.org/wp-content/uploads/2024/09/IMG_1199r4r-scaled.jpg
END:VEVENT
END:VCALENDAR